BEGIN:VCALENDAR
VERSION:2.0
PRODID:-//Furry Tales Cat Rescue - ECPv6.15.20//NONSGML v1.0//EN
CALSCALE:GREGORIAN
METHOD:PUBLISH
X-WR-CALNAME:Furry Tales Cat Rescue
X-ORIGINAL-URL:https://furry-tales.ca
X-WR-CALDESC:Events for Furry Tales Cat Rescue
REFRESH-INTERVAL;VALUE=DURATION:PT1H
X-Robots-Tag:noindex
X-PUBLISHED-TTL:PT1H
BEGIN:VTIMEZONE
TZID:America/Toronto
BEGIN:DAYLIGHT
TZOFFSETFROM:-0500
TZOFFSETTO:-0400
TZNAME:EDT
DTSTART:20240310T070000
END:DAYLIGHT
BEGIN:STANDARD
TZOFFSETFROM:-0400
TZOFFSETTO:-0500
TZNAME:EST
DTSTART:20241103T060000
END:STANDARD
BEGIN:DAYLIGHT
TZOFFSETFROM:-0500
TZOFFSETTO:-0400
TZNAME:EDT
DTSTART:20250309T070000
END:DAYLIGHT
BEGIN:STANDARD
TZOFFSETFROM:-0400
TZOFFSETTO:-0500
TZNAME:EST
DTSTART:20251102T060000
END:STANDARD
BEGIN:DAYLIGHT
TZOFFSETFROM:-0500
TZOFFSETTO:-0400
TZNAME:EDT
DTSTART:20260308T070000
END:DAYLIGHT
BEGIN:STANDARD
TZOFFSETFROM:-0400
TZOFFSETTO:-0500
TZNAME:EST
DTSTART:20261101T060000
END:STANDARD
END:VTIMEZONE
BEGIN:VEVENT
DTSTART;VALUE=DATE:20251007
DTEND;VALUE=DATE:20251106
DTSTAMP:20260423T131710
CREATED:20251010T000038Z
LAST-MODIFIED:20251023T233716Z
UID:18608-1759795200-1762387199@furry-tales.ca
SUMMARY:Purdy's Chocolates Holiday Fundraiser
DESCRIPTION:Did Someone Say Chocolate?\nIt’s that time of year again! It’s time to place your Purdy’s chocolate orders through our fundraiser! \nOrder by November 5th\, 2025th and you’ll have chocolates just in time for the holiday season! Purdy’s chocolates are perfect for gift-giving! From cute little hedgehogs to festive bell-shaped chocolates to boxes of assorted chocolates and even vegan options – there’s something for everyone! \nBy ordering through our fundraiser\, Furry Tales will receive a portion of every sale. The more sold\, the more Furry Tales receives! Funds raised will be used to care for our cats and kittens. It’s a win-win! You help your favourite rescue AND you get some yummy treats! \n\n\nHow to Order\nYou can order 3 different ways: \n\nGo to Purdys.com/fundraising\n\nSelect “Support a Fundraiser”\, then “Register as a Supporter”\nUse our customer number – 64205 – to join.\n\n\nJoin our fundraising campaign\, https://fundraising.purdys.com/join.aspx\n\nUse our customer number – 64205 – to join.\n\n\nFill our our handy Google Form: forms.gle/iNUwAVQNqUwahjpU8\n\nSee this handy video Check out this Facebook video from last year to see how to place your order (the process is the same). \n\n\n\n\nOrders placed by the 5th of November will be ready for pick up by November 25th! Pick up locations  in Orleans\, Barrhaven and Kanata\, Downtown Ottawa and Smiths Falls. \n\n 
URL:https://furry-tales.ca/event/purdys-chocolates-holiday-fundraiser/
LOCATION:Ontario
CATEGORIES:Fundraising and PR
ATTACH;FMTTYPE=image/jpeg:https://furry-tales.ca/wp-content/uploads/PurdysFundraiserNovember2025Event.jpg
END:VEVENT
BEGIN:VEVENT
DTSTART;VALUE=DATE:20251020
DTEND;VALUE=DATE:20251027
DTSTAMP:20260423T131710
CREATED:20251010T004436Z
LAST-MODIFIED:20251020T221402Z
UID:18616-1760918400-1761523199@furry-tales.ca
SUMMARY:PetSmart National Adoption Week October 20-26
DESCRIPTION:Save the date! Join Furry Tales from October 20–26\, 2025 as we celebrate a full week of adoptions at our partner PetSmart locations in Ottawa! We’ll have many adoptable cats and kittens in-store all week\, ready and waiting to meet their fur-ever families. \nIf you’re considering adopting a furry friend\, make sure to pre-apply online using our adoption application form (linked below or available at Furry-Tales.ca). There’s no commitment — but pre-approval ensures you’re ready to meet the cats when you visit. \nFollow us on Facebook or Instagram for all the details! \nWhere You Can Find Us\n\nMerivale PetSmart (1585 Merivale Rd)\nHeron PetSmart  (1600 Heron Rd)\n\nSpecial Adoption Week Fees\n\n1 kitten – $250\n2 kittens – $500\nAdult cats – $200 each\n\nFun Ways to Support the Kitties…\nTo add to the fun\, stop by one of our adoption centres on the weekend for some goodies & free entry in our Adoption Week gift card raffle!!! Come by to chat with our volunteers\, enjoy some treats\, and support the rescue—all while helping our cats find their forever homes! Follow us on Facebook or Instagram for all the details! \nBBQ Lunch\n🔥 Saturday October 25 ONLY 11AM – 2PM —  Enjoy a mouth-watering BBQ lunch to raise funds for our feline friends! \nBake and Merch Table  —  Pick up a treat for yourself\, or a kitty toy for a feline friend.\n🕥 October 25-26 ONLY\, 11AM – 3PM at both locations. \nAdoption Information\nRead about our adoption process Adoption Process – Furry Tales Cat Rescue and pre-apply on our website Adoption Application Form.
URL:https://furry-tales.ca/event/petsmart-national-adoption-week-october-20-26/
LOCATION:Ontario
CATEGORIES:Adoption Event,Fundraising and PR,Raffle
ATTACH;FMTTYPE=image/jpeg:https://furry-tales.ca/wp-content/uploads/October_Petsmart_Adoption_Event.jpg
END:VEVENT
END:VCALENDAR