BEGIN:VCALENDAR
VERSION:2.0
PRODID:-//Furry Tales Cat Rescue - ECPv6.15.20//NONSGML v1.0//EN
CALSCALE:GREGORIAN
METHOD:PUBLISH
X-ORIGINAL-URL:https://furry-tales.ca
X-WR-CALDESC:Events for Furry Tales Cat Rescue
REFRESH-INTERVAL;VALUE=DURATION:PT1H
X-Robots-Tag:noindex
X-PUBLISHED-TTL:PT1H
BEGIN:VTIMEZONE
TZID:America/Toronto
BEGIN:DAYLIGHT
TZOFFSETFROM:-0500
TZOFFSETTO:-0400
TZNAME:EDT
DTSTART:20240310T070000
END:DAYLIGHT
BEGIN:STANDARD
TZOFFSETFROM:-0400
TZOFFSETTO:-0500
TZNAME:EST
DTSTART:20241103T060000
END:STANDARD
BEGIN:DAYLIGHT
TZOFFSETFROM:-0500
TZOFFSETTO:-0400
TZNAME:EDT
DTSTART:20250309T070000
END:DAYLIGHT
BEGIN:STANDARD
TZOFFSETFROM:-0400
TZOFFSETTO:-0500
TZNAME:EST
DTSTART:20251102T060000
END:STANDARD
BEGIN:DAYLIGHT
TZOFFSETFROM:-0500
TZOFFSETTO:-0400
TZNAME:EDT
DTSTART:20260308T070000
END:DAYLIGHT
BEGIN:STANDARD
TZOFFSETFROM:-0400
TZOFFSETTO:-0500
TZNAME:EST
DTSTART:20261101T060000
END:STANDARD
BEGIN:DAYLIGHT
TZOFFSETFROM:-0500
TZOFFSETTO:-0400
TZNAME:EDT
DTSTART:20270314T070000
END:DAYLIGHT
BEGIN:STANDARD
TZOFFSETFROM:-0400
TZOFFSETTO:-0500
TZNAME:EST
DTSTART:20271107T060000
END:STANDARD
END:VTIMEZONE
BEGIN:VEVENT
DTSTART;VALUE=DATE:20251217
DTEND;VALUE=DATE:20260208
DTSTAMP:20260423T063057
CREATED:20251219T030445Z
LAST-MODIFIED:20251219T030741Z
UID:19691-1765929600-1770508799@furry-tales.ca
SUMMARY:Pucks & Paws: Support Furry Tales at the Ottawa 67’s Game!
DESCRIPTION:Join us for an exciting afternoon of hockey as we cheer on the Ottawa 67’s and raise much-needed funds for the cats of Furry Tales Cat Rescue! \nBring your friends and family for a great game at TD Place while making a direct impact on rescue efforts. \nEvent Details:\n\nDate: Saturday\, February 7\, 2026\nPuck Drop: 3:00 PM\nLocation: TD Place (see on map)\nMatchup: Ottawa 67’s vs. Brantford Bulldogs\nTickets: $31 each ($5 from every ticket goes directly to FTCR!\n\n\nHow to Get Your Tickets:\nGetting your tickets is easy! Simply send an e-transfer to: 👉 brucemoquin@outlook.com \nImportant: In the e-transfer comments\, please include: \n\nThe number of tickets you are purchasing.\nA valid email address (this is where your tickets will be sent).\n\nCome out\, have fun\, and help us save more lives—every ticket makes a difference! See you at the rink! 🐾
URL:https://furry-tales.ca/event/pucks-paws-support-furry-tales-at-the-ottawa-67s-game/
LOCATION:Ontario
CATEGORIES:Fundraising and PR
ATTACH;FMTTYPE=image/jpeg:https://furry-tales.ca/wp-content/uploads/HockeyRaffle-February2026.jpg
END:VEVENT
BEGIN:VEVENT
DTSTART;VALUE=DATE:20260106
DTEND;VALUE=DATE:20260201
DTSTAMP:20260423T063057
CREATED:20260107T021002Z
LAST-MODIFIED:20260111T224014Z
UID:19915-1767657600-1769903999@furry-tales.ca
SUMMARY:New Year\, New Start Donation Drive
DESCRIPTION:New Year\, New Start: Turn Your Unwanted Gifts into Rescued Purrs! 🐾\nDid Santa bring you a duplicate? Maybe your stocking was a little too full\, or you’re starting your New Year’s cleaning and finding treasures that just don’t fit your space? \nDon’t let those items gather dust—regift them for a cause! \nFurry Tales Cat Rescue is officially collecting donations for our upcoming  fundraising auctions & raffles. Every item donated helps us raise the vital funds needed for the medical care\, food\, and rescue of the many cats and kittens currently in our care. \nHow to Donate:\nThe donation drive is running now through the end of January 2026. We have convenient drop-off locations in Smiths Falls and across Ottawa. See the full list of our donation drop-off locations. \nThank you for helping us turn “clutter” into “comfort” for our rescue cats. Let’s make 2026 a lucky year for every kitty in our care! 🐱✨ \n \nWhat We’re Looking For:\nWe accept a wide variety of new or like-new items\, including: \n\nDuplicate holiday gifts or unwanted presents.\nExtra stocking stuffers.\nHome decor\, kitchen gadgets\, or electronics.\nUnused pet supplies\, toys\, or gift baskets.\nGift cards to local businesses.\n\n  \n 
URL:https://furry-tales.ca/event/new-year-new-start-donation-drive/
LOCATION:Ontario
CATEGORIES:Auction,Fundraising and PR,Raffle
ATTACH;FMTTYPE=image/jpeg:https://furry-tales.ca/wp-content/uploads/NewYearNewStartDonationDrive_January2026.jpg
END:VEVENT
BEGIN:VEVENT
DTSTART;VALUE=DATE:20260125
DTEND;VALUE=DATE:20260202
DTSTAMP:20260423T063057
CREATED:20260111T222547Z
LAST-MODIFIED:20260203T005727Z
UID:19961-1769299200-1769990399@furry-tales.ca
SUMMARY:Share the Love Online Auction 2026 (Closed)
DESCRIPTION:Our Share the Love Auction is Now Closed!\nA huge thank you to everyone who participated\, bid\, and supported our rescue! Your generosity makes a world of difference for our cats and kittens. \n\nWinners List: Please check the list posted below to see if you won!\nPayment: E-transfers can be sent to Furrytalesrescue@gmail.com.\nPickup: In the e-transfer memo\, please include your preferred pickup location so we can coordinate your items.\n\nWinners List: Click here to view the list. \nThank you again for helping us save lives! \nShare the Love: Our Winter Online Auction! ❤️🐾\nGet ready to bid for a cause! Our “Share the Love” Online Auction is just around the corner\, and it’s the perfect way to find something special while helping the cats and kittens of Furry Tales Cat Rescue. \nWhether you’re looking for a late holiday treat for yourself\, a Valentine’s gift for a loved one\, or a unique treasure\, every winning bid goes directly toward the medical care\, food\, and rescue efforts for our cats. \nMark Your Calendars: \n\nBidding Starts: Sunday\, January 25th\, 2026 at 8:00 AM.\nBidding Ends: Sunday\, February 1st\, 2026 at 6:00 PM sharp! The last bid before 6 PM wins.\n\nStay tuned for the auction link to all our wonderful items\, or follow our Facebook or Instagram feeds for updates. \nHow to Bid\nThe auction starts January 25th\, 2026 at 8am. Items can be bid on once their descriptions are entered. Auction ends at 6pm February 1st\, 2026 SHARP!  The last bid before 6pm wins. \nNew bidders must register by sending us a message from our auction page with their name and contact information. Once registered\, comment on the photo of any items you are interested in. Bid increments are noted; ensure you view all comments for the item to see all bids. \nPickup Locations\nPickup locations include Barrhaven\, Kanata\, Smiths Falls\, Kemptville\, Brockville\, and Orleans. Details for pickup will be posted on the auction page after the auction.
URL:https://furry-tales.ca/event/share-the-love-online-auction/
LOCATION:Ontario
CATEGORIES:Auction
ATTACH;FMTTYPE=image/jpeg:https://furry-tales.ca/wp-content/uploads/ValentinesShareTheLoveAuction2026.jpg
END:VEVENT
END:VCALENDAR