BEGIN:VCALENDAR
VERSION:2.0
PRODID:-//Furry Tales Cat Rescue - ECPv6.15.20//NONSGML v1.0//EN
CALSCALE:GREGORIAN
METHOD:PUBLISH
X-WR-CALNAME:Furry Tales Cat Rescue
X-ORIGINAL-URL:https://furry-tales.ca
X-WR-CALDESC:Events for Furry Tales Cat Rescue
REFRESH-INTERVAL;VALUE=DURATION:PT1H
X-Robots-Tag:noindex
X-PUBLISHED-TTL:PT1H
BEGIN:VTIMEZONE
TZID:America/Toronto
BEGIN:DAYLIGHT
TZOFFSETFROM:-0500
TZOFFSETTO:-0400
TZNAME:EDT
DTSTART:20250309T070000
END:DAYLIGHT
BEGIN:STANDARD
TZOFFSETFROM:-0400
TZOFFSETTO:-0500
TZNAME:EST
DTSTART:20251102T060000
END:STANDARD
BEGIN:DAYLIGHT
TZOFFSETFROM:-0500
TZOFFSETTO:-0400
TZNAME:EDT
DTSTART:20260308T070000
END:DAYLIGHT
BEGIN:STANDARD
TZOFFSETFROM:-0400
TZOFFSETTO:-0500
TZNAME:EST
DTSTART:20261101T060000
END:STANDARD
BEGIN:DAYLIGHT
TZOFFSETFROM:-0500
TZOFFSETTO:-0400
TZNAME:EDT
DTSTART:20270314T070000
END:DAYLIGHT
BEGIN:STANDARD
TZOFFSETFROM:-0400
TZOFFSETTO:-0500
TZNAME:EST
DTSTART:20271107T060000
END:STANDARD
END:VTIMEZONE
BEGIN:VEVENT
DTSTART;VALUE=DATE:20260323
DTEND;VALUE=DATE:20260330
DTSTAMP:20260423T061116
CREATED:20260308T221631Z
LAST-MODIFIED:20260318T015752Z
UID:20605-1774224000-1774828799@furry-tales.ca
SUMMARY:PetSmart National Adoption Week March 23 - 29\, 2026
DESCRIPTION:🐾 Join Us for National Adoption Week! 🐾\nAre you ready to find your new best friend? We are thrilled to announce our upcoming Pet Adoption Week. Whether you are looking for a cuddly senior or a playful kitten\, this is the perfect time to give a deserving pet their forever home. \nIf you aren’t ready to adopt\, and simply want to support our mission\, there are many other ways to help. You can make a huge difference by stopping by to shop our merch\, grabbing some home-baked treats\, or contributing to our food drive—every donation goes directly to caring for animals in need. \nFollow us on Facebook or Instagram for all the details! Every adoption saves a life. We can’t wait to see you there! \n📍 Event Locations\nWe are hosting this event at three convenient PetSmart locations. Visit us at any of the following spots: \n\nPetSmart Merivale: 1585 Merivale Road\nPetSmart Heron: 1600 Heron Road\nPetSmart Innes: 1750 Innes Road\n\n📅 Event Schedule\n\nAdoption Week: Monday\, March 23 – Sunday\, March 29\nSpecial Weekend Event: Saturday\, March 28 & Sunday\, March 29\, 11:00 AM – 3:00 PM\n\nMerch Table\nDelicious Baked Goods for Sale\nFood Drive\n\n\n\n🐱 How to Meet Your Match\nTo ensure every pet and potential adopter gets the dedicated time they deserve\, we are conducting Meet & Greets by appointment. \n\nPre-Apply Online: Fill out our adoption application before or during Adoption Week.\nWait for a Whiskered Hello: Our team will review your application and reach out to you directly to confirm anappointment time.\nMeet the Crew: Head down to the store at your scheduled time to meet our adoptable residents in a calm\, stress-free environment.\n\n🍪 Weekend Extras (March 28-29)\nStop by between 11 AM and 3 PM on the weekend to support our rescue efforts\, even if you aren’t ready to adopt! \n\nShop: Grab exclusive rescue merchandise.\nSnack: Treat yourself to home-baked goodies (for humans!).\nDonate: We are hosting a Food Drive to keep our foster bellies full. We gratefully accept unopened wet and dry cat/dog food and litter.
URL:https://furry-tales.ca/event/petsmart-national-adoption-week-march2026/
CATEGORIES:Adoption Event,Fundraising and PR
ATTACH;FMTTYPE=image/jpeg:https://furry-tales.ca/wp-content/uploads/17032026_PetsmartAdoptionWeek.jpg
END:VEVENT
END:VCALENDAR