BEGIN:VCALENDAR
VERSION:2.0
PRODID:-//Furry Tales Cat Rescue - ECPv6.15.20//NONSGML v1.0//EN
CALSCALE:GREGORIAN
METHOD:PUBLISH
X-WR-CALNAME:Furry Tales Cat Rescue
X-ORIGINAL-URL:https://furry-tales.ca
X-WR-CALDESC:Events for Furry Tales Cat Rescue
REFRESH-INTERVAL;VALUE=DURATION:PT1H
X-Robots-Tag:noindex
X-PUBLISHED-TTL:PT1H
BEGIN:VTIMEZONE
TZID:America/Toronto
BEGIN:DAYLIGHT
TZOFFSETFROM:-0500
TZOFFSETTO:-0400
TZNAME:EDT
DTSTART:20240310T070000
END:DAYLIGHT
BEGIN:STANDARD
TZOFFSETFROM:-0400
TZOFFSETTO:-0500
TZNAME:EST
DTSTART:20241103T060000
END:STANDARD
BEGIN:DAYLIGHT
TZOFFSETFROM:-0500
TZOFFSETTO:-0400
TZNAME:EDT
DTSTART:20250309T070000
END:DAYLIGHT
BEGIN:STANDARD
TZOFFSETFROM:-0400
TZOFFSETTO:-0500
TZNAME:EST
DTSTART:20251102T060000
END:STANDARD
BEGIN:DAYLIGHT
TZOFFSETFROM:-0500
TZOFFSETTO:-0400
TZNAME:EDT
DTSTART:20260308T070000
END:DAYLIGHT
BEGIN:STANDARD
TZOFFSETFROM:-0400
TZOFFSETTO:-0500
TZNAME:EST
DTSTART:20261101T060000
END:STANDARD
END:VTIMEZONE
BEGIN:VEVENT
DTSTART;VALUE=DATE:20250511
DTEND;VALUE=DATE:20250516
DTSTAMP:20260424T070511
CREATED:20250510T202144Z
LAST-MODIFIED:20250526T162659Z
UID:15977-1746921600-1747353599@furry-tales.ca
SUMMARY:Flash Spring into Summer Online Auction
DESCRIPTION:Flash Mini Spring into Summer Online Auction\n  \n\nWhen: Auction begins Sunday\, May 11\, 2025\, at 9am and ends Thursday\, May 15\, 2025\, at 6pm.\nWhere: facebook.com/onlineauctionforanimalrescue  https://www.facebook.com/Onlineauctionforanimalrescue\nHow: New bidders must message the page with their location and contact number. Please honour your bids\, as this is a charity auction. The last bid before the clock turns 6pm on May 15th\, 2025\,  gets the item.\nPayment: Payment must be made to furrytalesrescue@gmail.com by the morning of Saturday\, May 17th\, to allow items to be sent to locations Saturday afternoon.\n Pick-up:  Pickup will be available in Kanata\, Orleans\, Barrhaven\, Smiths Falls\, Kemptville\, and Brockville\, or shipping is available at $15.00 per box\, via tracked courier shipping.\n\n  \nLike many cats\, Monsieur Sapien was abandoned at a crowded shelter with several visible and non-visible ailments. Most visible is a large mass hanging from his neck. This mass has grown so large that it is pulling his skin\, and he is losing his fur. He also has a heart murmur and hyperthyroidism. \nMonsieur Sapien is a cuddly gentleman with a passion for purring and a love for attention. He rubs himself on the door whenever someone passes by his cage\, waiting for pets. It is clear he was in a home and cherishes human attention. Monsieur deserves a chance at life\, and we will give him that chance. He will need at least a biopsy of his mass\, medications\, and potentially surgery. We are again coming to our community with this auction so we can provide the best care for this poor soul. \n  \n 
URL:https://furry-tales.ca/event/flash-spring-into-summer-online-auction/
CATEGORIES:Auction
ATTACH;FMTTYPE=image/jpeg:https://furry-tales.ca/wp-content/uploads/051025_FlashAuction.jpg
END:VEVENT
END:VCALENDAR