BEGIN:VCALENDAR
VERSION:2.0
PRODID:-//Furry Tales Cat Rescue - ECPv6.15.20//NONSGML v1.0//EN
CALSCALE:GREGORIAN
METHOD:PUBLISH
X-ORIGINAL-URL:https://furry-tales.ca
X-WR-CALDESC:Events for Furry Tales Cat Rescue
REFRESH-INTERVAL;VALUE=DURATION:PT1H
X-Robots-Tag:noindex
X-PUBLISHED-TTL:PT1H
BEGIN:VTIMEZONE
TZID:America/Toronto
BEGIN:DAYLIGHT
TZOFFSETFROM:-0500
TZOFFSETTO:-0400
TZNAME:EDT
DTSTART:20240310T070000
END:DAYLIGHT
BEGIN:STANDARD
TZOFFSETFROM:-0400
TZOFFSETTO:-0500
TZNAME:EST
DTSTART:20241103T060000
END:STANDARD
BEGIN:DAYLIGHT
TZOFFSETFROM:-0500
TZOFFSETTO:-0400
TZNAME:EDT
DTSTART:20250309T070000
END:DAYLIGHT
BEGIN:STANDARD
TZOFFSETFROM:-0400
TZOFFSETTO:-0500
TZNAME:EST
DTSTART:20251102T060000
END:STANDARD
BEGIN:DAYLIGHT
TZOFFSETFROM:-0500
TZOFFSETTO:-0400
TZNAME:EDT
DTSTART:20260308T070000
END:DAYLIGHT
BEGIN:STANDARD
TZOFFSETFROM:-0400
TZOFFSETTO:-0500
TZNAME:EST
DTSTART:20261101T060000
END:STANDARD
END:VTIMEZONE
BEGIN:VEVENT
DTSTART;VALUE=DATE:20250618
DTEND;VALUE=DATE:20250625
DTSTAMP:20260424T053435
CREATED:20250618T161022Z
LAST-MODIFIED:20250621T174411Z
UID:16710-1750204800-1750809599@furry-tales.ca
SUMMARY:Purse Auction for Furry Tales
DESCRIPTION:Welcome to the Summer Purse Auction for Furry Tales!\nThe Purse Auction is officially OPEN!  Starting right now\, you can bid on the first wave of fabulous purses in our 3-part fundraiser auction featuring everything from fun and functional to full-on luxury. It’s time to shop for a cause!  This auction will help raise much-needed funds for the over 150 cats in our care. \nWe will have 3 styles of purses for you to shop from. More purses will be added throughout the week\, so keep checking back often! Whether you’re after a classic everyday bag or a statement piece\, this auction has something for every style and budget. Please note different views of each purse is posted in comments for that purse. \n\nLuxurious Style – these include designer bags from Kate Spade\, Fossil\, Coach\, Michael Kors\, and more\, with original retail values between $150 and $750.\nUnique and Beautiful – find unique and one of a kind purses in this album.\nEveryday Wonders –  functional and practical\, find your how-did-I-live-without-it type of purse here.\n\nClick here to visit the album. \nHow to Bid\nBidding starts June 18th and closes June 24th\, 2025 at 6 pm! \nNew bidders must register by sending us a message with their name and contact information from our auction page. Once registered\, just comment on the photo of the purse you want. Bid increments are noted. Any winners having successful bids over $150.00 is eligible for free tracked shipping to your door. \nPickup Locations\nPick up locations are Orleans\, Kanata\, Barrhaven\, Smiths Falls\, Brockville\, Kemptville\, Perth and Carleton Place. Details will follow after the auction.
URL:https://furry-tales.ca/event/purse-auction-for-furry-tales-june-2025/
CATEGORIES:Auction
ATTACH;FMTTYPE=image/jpeg:https://furry-tales.ca/wp-content/uploads/06182025_PurseAuctionOpen_Banner.jpg
END:VEVENT
END:VCALENDAR