BEGIN:VCALENDAR
VERSION:2.0
PRODID:-//Furry Tales Cat Rescue - ECPv6.15.20//NONSGML v1.0//EN
CALSCALE:GREGORIAN
METHOD:PUBLISH
X-WR-CALNAME:Furry Tales Cat Rescue
X-ORIGINAL-URL:https://furry-tales.ca
X-WR-CALDESC:Events for Furry Tales Cat Rescue
REFRESH-INTERVAL;VALUE=DURATION:PT1H
X-Robots-Tag:noindex
X-PUBLISHED-TTL:PT1H
BEGIN:VTIMEZONE
TZID:America/Toronto
BEGIN:DAYLIGHT
TZOFFSETFROM:-0500
TZOFFSETTO:-0400
TZNAME:EDT
DTSTART:20240310T070000
END:DAYLIGHT
BEGIN:STANDARD
TZOFFSETFROM:-0400
TZOFFSETTO:-0500
TZNAME:EST
DTSTART:20241103T060000
END:STANDARD
BEGIN:DAYLIGHT
TZOFFSETFROM:-0500
TZOFFSETTO:-0400
TZNAME:EDT
DTSTART:20250309T070000
END:DAYLIGHT
BEGIN:STANDARD
TZOFFSETFROM:-0400
TZOFFSETTO:-0500
TZNAME:EST
DTSTART:20251102T060000
END:STANDARD
BEGIN:DAYLIGHT
TZOFFSETFROM:-0500
TZOFFSETTO:-0400
TZNAME:EDT
DTSTART:20260308T070000
END:DAYLIGHT
BEGIN:STANDARD
TZOFFSETFROM:-0400
TZOFFSETTO:-0500
TZNAME:EST
DTSTART:20261101T060000
END:STANDARD
END:VTIMEZONE
BEGIN:VEVENT
DTSTART;TZID=America/Toronto:20250723T080000
DTEND;TZID=America/Toronto:20250730T180000
DTSTAMP:20260424T040325
CREATED:20250724T013321Z
LAST-MODIFIED:20250729T131228Z
UID:17359-1753257600-1753898400@furry-tales.ca
SUMMARY:Summer Vibes Auction
DESCRIPTION:Welcome to the Summer Vibes Auction for Furry Tales TNR\n☀️ The Summer Vibes Auction is officially LIVE! ☀️ \nOur Summer Vibes auction is now open with tons of fun summery items and of course\, lots of neat things for the fur-babies in our lives. All proceeds from this auction go directly toward helping community cats through Trap-Neuter-Return (TNR). So go ahead… place your bids\, spread the word\, and help us make a difference this summer! \nThe auction starts once descriptions are entered and ends at 6pm July 30th\, 2025 SHARP!  The last bid before 6pm wins. \nClick here to visit the album. \nHow to Bid\nThe auction starts July 23rd and items can be bid on once their descriptions are entered. Auction ends at 6pm July 30th\, 2025 SHARP!  The last bid before 6pm wins. \nNew bidders must register by sending us a message with their name and contact information from our auction page. Once registered\, just comment on the photo any items you want. Bid increments are noted. \nPickup Locations\nPick up locations are Barrhaven\, Kanata\, Smiths Falls\, Kemptville\, Brockville and Orleans. Details for pickup will follow after the auction on the auction page. \n** Shipping is available\, $15.00 to Ontario and Quebec\, with a surcharge for northern regions. Please contact for shipping information prior to bidding
URL:https://furry-tales.ca/event/summervibesjuly2025/
CATEGORIES:Auction
ATTACH;FMTTYPE=image/jpeg:https://furry-tales.ca/wp-content/uploads/07232025_SummerVibesAuction.jpg
END:VEVENT
END:VCALENDAR