BEGIN:VCALENDAR
VERSION:2.0
PRODID:-//Furry Tales Cat Rescue - ECPv6.15.20//NONSGML v1.0//EN
CALSCALE:GREGORIAN
METHOD:PUBLISH
X-WR-CALNAME:Furry Tales Cat Rescue
X-ORIGINAL-URL:https://furry-tales.ca
X-WR-CALDESC:Events for Furry Tales Cat Rescue
REFRESH-INTERVAL;VALUE=DURATION:PT1H
X-Robots-Tag:noindex
X-PUBLISHED-TTL:PT1H
BEGIN:VTIMEZONE
TZID:America/Toronto
BEGIN:DAYLIGHT
TZOFFSETFROM:-0500
TZOFFSETTO:-0400
TZNAME:EDT
DTSTART:20240310T070000
END:DAYLIGHT
BEGIN:STANDARD
TZOFFSETFROM:-0400
TZOFFSETTO:-0500
TZNAME:EST
DTSTART:20241103T060000
END:STANDARD
BEGIN:DAYLIGHT
TZOFFSETFROM:-0500
TZOFFSETTO:-0400
TZNAME:EDT
DTSTART:20250309T070000
END:DAYLIGHT
BEGIN:STANDARD
TZOFFSETFROM:-0400
TZOFFSETTO:-0500
TZNAME:EST
DTSTART:20251102T060000
END:STANDARD
BEGIN:DAYLIGHT
TZOFFSETFROM:-0500
TZOFFSETTO:-0400
TZNAME:EDT
DTSTART:20260308T070000
END:DAYLIGHT
BEGIN:STANDARD
TZOFFSETFROM:-0400
TZOFFSETTO:-0500
TZNAME:EST
DTSTART:20261101T060000
END:STANDARD
END:VTIMEZONE
BEGIN:VEVENT
DTSTART;TZID=America/Toronto:20250926T080000
DTEND;TZID=America/Toronto:20251002T170000
DTSTAMP:20260424T003531
CREATED:20250924T194209Z
LAST-MODIFIED:20250924T194209Z
UID:18342-1758873600-1759424400@furry-tales.ca
SUMMARY:Howl-O-Ween Auction
DESCRIPTION:🎃Howl-O-Ween Auction For Animal Rescue👻🐾\nGet ready for some frightfully fun bidding! Our Howl-O-Ween Online Auction is packed with treats for you and your furry friends — from adorable pet costumes to unique gift items\, spooky décor\, accessories\, and more. \nEvery bid helps support kitties in need and gives them a second chance at a loving home. 🐱❤️ \nSo put on your witch’s hat🧙\, grab your broomstick\, and join the fun: your purr-fect prize might be just a bid away!
URL:https://furry-tales.ca/event/howl-o-ween-auction/
CATEGORIES:Auction
ATTACH;FMTTYPE=image/png:https://furry-tales.ca/wp-content/uploads/24092025_HalloweenAuction.png
END:VEVENT
END:VCALENDAR