BEGIN:VCALENDAR
VERSION:2.0
PRODID:-//Furry Tales Cat Rescue - ECPv6.15.20//NONSGML v1.0//EN
CALSCALE:GREGORIAN
METHOD:PUBLISH
X-WR-CALNAME:Furry Tales Cat Rescue
X-ORIGINAL-URL:https://furry-tales.ca
X-WR-CALDESC:Events for Furry Tales Cat Rescue
REFRESH-INTERVAL;VALUE=DURATION:PT1H
X-Robots-Tag:noindex
X-PUBLISHED-TTL:PT1H
BEGIN:VTIMEZONE
TZID:America/Toronto
BEGIN:DAYLIGHT
TZOFFSETFROM:-0500
TZOFFSETTO:-0400
TZNAME:EDT
DTSTART:20250309T070000
END:DAYLIGHT
BEGIN:STANDARD
TZOFFSETFROM:-0400
TZOFFSETTO:-0500
TZNAME:EST
DTSTART:20251102T060000
END:STANDARD
BEGIN:DAYLIGHT
TZOFFSETFROM:-0500
TZOFFSETTO:-0400
TZNAME:EDT
DTSTART:20260308T070000
END:DAYLIGHT
BEGIN:STANDARD
TZOFFSETFROM:-0400
TZOFFSETTO:-0500
TZNAME:EST
DTSTART:20261101T060000
END:STANDARD
BEGIN:DAYLIGHT
TZOFFSETFROM:-0500
TZOFFSETTO:-0400
TZNAME:EDT
DTSTART:20270314T070000
END:DAYLIGHT
BEGIN:STANDARD
TZOFFSETFROM:-0400
TZOFFSETTO:-0500
TZNAME:EST
DTSTART:20271107T060000
END:STANDARD
END:VTIMEZONE
BEGIN:VEVENT
DTSTART;TZID=America/Toronto:20260418T080000
DTEND;TZID=America/Toronto:20260418T140000
DTSTAMP:20260423T075104
CREATED:20260417T010418Z
LAST-MODIFIED:20260417T010550Z
UID:21063-1776499200-1776520800@furry-tales.ca
SUMMARY:Yard Sale at the Cattery
DESCRIPTION:🐾 Kittens\, Thrifting\, and “Turkeys”—Oh My!\nDo you love a good thrift find? Want to support a great cause and finally see where the magic happens? Join us for a morning of shopping and community at Furry Tales Rescue! \nCome browse a variety of used goods and hidden gems. Whether you’re looking for household items or a little something special\, every dollar spent goes directly toward the care of the cats in our rescue. Plus\, you’ll get a chance to see the cattery and meet the “turkeys”—oops\, we mean our wonderful team members! \n🗓️ Event Details\n\nWhen: Saturday\, April 18th\, 2026\nTime: 8:00 AM – 2:00 PM\nLocation: 131 Rivers Edge Rd\, Smiths Falls\, ON\n\nLook for the Furry Tales sign where the road splits on Salter Lane!\n\n\nPayment: Cash only\, please!\n\n⛈️ Weather Notice\nWith all the rain we’ve had lately\, this event is weather-dependent. Safety and dry goods are our priority! \nCheck before you trek: Please keep an eye on our social media pages on Friday evening or Saturday morning for any updates regarding cancellations or a potential rain date.
URL:https://furry-tales.ca/event/yard-sale-at-the-cattery/
LOCATION:Furry Tales Cattery\, 131 Rivers Edge Rd\, Smiths Falls\, Ontario\, Canada
ATTACH;FMTTYPE=image/jpeg:https://furry-tales.ca/wp-content/uploads/20260418_CatteryYardSale.jpg
END:VEVENT
BEGIN:VEVENT
DTSTART;TZID=America/Toronto:20260425T090000
DTEND;TZID=America/Toronto:20260425T170000
DTSTAMP:20260423T075104
CREATED:20260414T013801Z
LAST-MODIFIED:20260417T005100Z
UID:21023-1777107600-1777136400@furry-tales.ca
SUMMARY:Adopt Joy Event April 25\, 2026
DESCRIPTION:🐾 ADOPTION EVENT: Adopt Joy at PetSmart Innes 🐾\nAre you looking for a new best friend? Join Furry Tales Cat Rescue for a special adoption event! We’ll have several incredible cats on-site\, all dreaming of finding their forever homes. Whether you are ready to adopt or just want to support our mission\, there are plenty of ways to get involved. \n📍 Event Info & Location\n\nWhen: Saturday\, April 25\, 2026\n Time: 9:00 AM – 5:00 PM\n Where: PetSmart – 1750 Innes Road\, Ottawa\n\n📅 Event Highlights\nMeet the Cats: Get to know our adoptable rescues in person. \nBake & Merch Sale: Treat yourself to some delicious home-baked goods or pick up exclusive rescue gear. \nFood Drive: Help us keep our foster cats fed! We are gratefully accepting donations of unopened cat food. \nCome say hi\, shop for a cause\, and help us give these amazing cats the loving families they deserve. \nWe can’t wait to see you there!
URL:https://furry-tales.ca/event/adopt-joy-event-april2026/
LOCATION:PetSmart – Ottawa (1750 Innes Rd)\, 1750 Innes Road\, Gloucester\, Ontario\, K1B 3K5\, Canada
ATTACH;FMTTYPE=image/jpeg:https://furry-tales.ca/wp-content/uploads/AdoptJoyEventApril2026-1.jpg
END:VEVENT
END:VCALENDAR