BEGIN:VCALENDAR
VERSION:2.0
PRODID:-//Furry Tales Cat Rescue - ECPv6.15.20//NONSGML v1.0//EN
CALSCALE:GREGORIAN
METHOD:PUBLISH
X-WR-CALNAME:Furry Tales Cat Rescue
X-ORIGINAL-URL:https://furry-tales.ca
X-WR-CALDESC:Events for Furry Tales Cat Rescue
REFRESH-INTERVAL;VALUE=DURATION:PT1H
X-Robots-Tag:noindex
X-PUBLISHED-TTL:PT1H
BEGIN:VTIMEZONE
TZID:America/Toronto
BEGIN:DAYLIGHT
TZOFFSETFROM:-0500
TZOFFSETTO:-0400
TZNAME:EDT
DTSTART:20210314T070000
END:DAYLIGHT
BEGIN:STANDARD
TZOFFSETFROM:-0400
TZOFFSETTO:-0500
TZNAME:EST
DTSTART:20211107T060000
END:STANDARD
BEGIN:DAYLIGHT
TZOFFSETFROM:-0500
TZOFFSETTO:-0400
TZNAME:EDT
DTSTART:20220313T070000
END:DAYLIGHT
BEGIN:STANDARD
TZOFFSETFROM:-0400
TZOFFSETTO:-0500
TZNAME:EST
DTSTART:20221106T060000
END:STANDARD
BEGIN:DAYLIGHT
TZOFFSETFROM:-0500
TZOFFSETTO:-0400
TZNAME:EDT
DTSTART:20230312T070000
END:DAYLIGHT
BEGIN:STANDARD
TZOFFSETFROM:-0400
TZOFFSETTO:-0500
TZNAME:EST
DTSTART:20231105T060000
END:STANDARD
BEGIN:DAYLIGHT
TZOFFSETFROM:-0500
TZOFFSETTO:-0400
TZNAME:EDT
DTSTART:20240310T070000
END:DAYLIGHT
BEGIN:STANDARD
TZOFFSETFROM:-0400
TZOFFSETTO:-0500
TZNAME:EST
DTSTART:20241103T060000
END:STANDARD
BEGIN:DAYLIGHT
TZOFFSETFROM:-0500
TZOFFSETTO:-0400
TZNAME:EDT
DTSTART:20250309T070000
END:DAYLIGHT
BEGIN:STANDARD
TZOFFSETFROM:-0400
TZOFFSETTO:-0500
TZNAME:EST
DTSTART:20251102T060000
END:STANDARD
END:VTIMEZONE
BEGIN:VEVENT
DTSTART;VALUE=DATE:20240318
DTEND;VALUE=DATE:20240325
DTSTAMP:20260423T164239
CREATED:20240412T020443Z
LAST-MODIFIED:20240412T020443Z
UID:10500-1710720000-1711324799@furry-tales.ca
SUMMARY:Petsmart Adoption Week
DESCRIPTION:
URL:https://furry-tales.ca/event/petsmart-adoption-week/
CATEGORIES:Adoption Event
END:VEVENT
BEGIN:VEVENT
DTSTART;TZID=America/Toronto:20240316T080000
DTEND;TZID=America/Toronto:20240323T090000
DTSTAMP:20260423T164239
CREATED:20240412T143208Z
LAST-MODIFIED:20240412T143208Z
UID:10517-1710576000-1711184400@furry-tales.ca
SUMMARY:Spring Auction For Animal Rescue
DESCRIPTION:
URL:https://furry-tales.ca/event/spring-auction-for-animal-rescue/
CATEGORIES:Auction
END:VEVENT
BEGIN:VEVENT
DTSTART;VALUE=DATE:20240224
DTEND;VALUE=DATE:20240225
DTSTAMP:20260423T164239
CREATED:20240412T020312Z
LAST-MODIFIED:20240412T020312Z
UID:10497-1708732800-1708819199@furry-tales.ca
SUMMARY:Basket Raffle
DESCRIPTION:
URL:https://furry-tales.ca/event/basket-raffle/
CATEGORIES:Raffle
END:VEVENT
BEGIN:VEVENT
DTSTART;VALUE=DATE:20240210
DTEND;VALUE=DATE:20240211
DTSTAMP:20260423T164239
CREATED:20240412T142738Z
LAST-MODIFIED:20240412T142738Z
UID:10495-1707523200-1707609599@furry-tales.ca
SUMMARY:Valentine's Day Online Auction
DESCRIPTION:
URL:https://furry-tales.ca/event/valentines-day-online-auction/
CATEGORIES:Auction
END:VEVENT
BEGIN:VEVENT
DTSTART;VALUE=DATE:20240210
DTEND;VALUE=DATE:20240211
DTSTAMP:20260423T164239
CREATED:20240412T015824Z
LAST-MODIFIED:20240412T020003Z
UID:10488-1707523200-1707609599@furry-tales.ca
SUMMARY:Valentines Raffle
DESCRIPTION:
URL:https://furry-tales.ca/event/valentines-raffle/
CATEGORIES:Raffle
END:VEVENT
BEGIN:VEVENT
DTSTART;TZID=America/Toronto:20231112T080000
DTEND;TZID=America/Toronto:20231119T180000
DTSTAMP:20260423T164239
CREATED:20231106T140549Z
LAST-MODIFIED:20231106T140549Z
UID:8769-1699776000-1700416800@furry-tales.ca
SUMMARY:Online Auction for Animal Rescue
DESCRIPTION:
URL:https://furry-tales.ca/event/online-auction-for-animal-rescue/
CATEGORIES:Auction
END:VEVENT
BEGIN:VEVENT
DTSTART;TZID=America/Toronto:20231106T100000
DTEND;TZID=America/Toronto:20231112T190000
DTSTAMP:20260423T164239
CREATED:20231010T192038Z
LAST-MODIFIED:20231029T181927Z
UID:8304-1699264800-1699815600@furry-tales.ca
SUMMARY:PetSmart Adoption Week (1585 Merivale Rd\, Ottawa)
DESCRIPTION:
URL:https://furry-tales.ca/event/petsmart-adoption-week-1585-merivale-rd-ottawa/
CATEGORIES:Adoption Event
END:VEVENT
BEGIN:VEVENT
DTSTART;TZID=America/Toronto:20231106T090000
DTEND;TZID=America/Toronto:20231112T190000
DTSTAMP:20260423T164239
CREATED:20231106T122653Z
LAST-MODIFIED:20231106T122716Z
UID:8765-1699261200-1699815600@furry-tales.ca
SUMMARY:PetSmart Adoption Week Nov 6-12th\, 2023
DESCRIPTION:see cats in our two PetSmart adoption store locations: \n1585 Merivale Road\, Ottawa \n1-1600 Heron Road\, Ottawa.
URL:https://furry-tales.ca/event/petsmart-adoption-week-nov-6-12th-2023/
CATEGORIES:Adoption Event
END:VEVENT
BEGIN:VEVENT
DTSTART;TZID=America/Toronto:20231103T120000
DTEND;TZID=America/Toronto:20231103T180000
DTSTAMP:20260423T164239
CREATED:20231010T191742Z
LAST-MODIFIED:20231010T191742Z
UID:8300-1699012800-1699034400@furry-tales.ca
SUMMARY:Fall Pet Portraits. PetValu Convent Glen Orleans
DESCRIPTION:
URL:https://furry-tales.ca/event/fall-pet-portraits-petvalu-convent-glen-orleans/
CATEGORIES:Fundraising and PR
END:VEVENT
BEGIN:VEVENT
DTSTART;TZID=America/Toronto:20231029T100000
DTEND;TZID=America/Toronto:20231029T110000
DTSTAMP:20260423T164239
CREATED:20231026T172228Z
LAST-MODIFIED:20231026T172228Z
UID:8526-1698573600-1698577200@furry-tales.ca
SUMMARY:Nail Trim clinic 11 Davis Dr Smiths Falls
DESCRIPTION:
URL:https://furry-tales.ca/event/nail-trim-clinic-11-davis-dr-smiths-falls/
CATEGORIES:Fundraising and PR
END:VEVENT
BEGIN:VEVENT
DTSTART;TZID=America/Toronto:20231021T100000
DTEND;TZID=America/Toronto:20231021T140000
DTSTAMP:20260423T164239
CREATED:20231010T223051Z
LAST-MODIFIED:20231010T223051Z
UID:8311-1697882400-1697896800@furry-tales.ca
SUMMARY:PetValu Southgate adoption event
DESCRIPTION:
URL:https://furry-tales.ca/event/petvalu-southgate-adoption-event/
CATEGORIES:Adoption Event
END:VEVENT
BEGIN:VEVENT
DTSTART;TZID=America/Toronto:20231013T080000
DTEND;TZID=America/Toronto:20231018T180000
DTSTAMP:20260423T164239
CREATED:20231011T141354Z
LAST-MODIFIED:20231011T141354Z
UID:8323-1697184000-1697652000@furry-tales.ca
SUMMARY:Flash Auction Friday October 13th on Facebook
DESCRIPTION:
URL:https://furry-tales.ca/event/flash-auction-friday-october-13th-on-facebook/
CATEGORIES:Auction
END:VEVENT
BEGIN:VEVENT
DTSTART;TZID=America/Toronto:20231010T080000
DTEND;TZID=America/Toronto:20231114T170000
DTSTAMP:20260423T164239
CREATED:20231010T185032Z
LAST-MODIFIED:20231107T222314Z
UID:8295-1696924800-1699981200@furry-tales.ca
SUMMARY:Purdy’s Chocolatier fundraiser
DESCRIPTION:  \n🐈🍫This fundraiser combines two of our favourite things: CATS & CHOCOLATE 😊 \nUntil November 14th\, you can place your order for Purdy’s Chocolates\, in which Purdy’s returns a considerable portion of the profits back to Furry Tales. Now that’s delicious!!! Helping cats while buying chocolates for yourself\, family or friends. 💙 \nOrders will arrive around December 11\, 2023 and we will have many convenient pick-up locations through the Ottawa area.\nOrdering with your credit card is so convenient. Visit https://fundraising.purdys.com/1566221-108138 – Fill out your info (you’ll need an email address)\, click “Join Campaign”\, enter campaign number – 64205 and order to your heart’s content! Many vegan options available! \nDon’t have a credit card? Use the following link (to pay by e-transfer) https://docs.google.com/forms/d/1MEQdAJxcnlWoOVf6UI9T5jqu6N_GgtMX90g8IPaS0PI/edit\nThank you for your support and happy ordering!! \n  \n  \n  \n 
URL:https://furry-tales.ca/event/purdys-chocolatier-fundraiser/
CATEGORIES:Fundraising and PR
END:VEVENT
BEGIN:VEVENT
DTSTART;TZID=America/Toronto:20231001T080000
DTEND;TZID=America/Toronto:20231031T200000
DTSTAMP:20260423T164239
CREATED:20231010T192921Z
LAST-MODIFIED:20231010T192921Z
UID:8307-1696147200-1698782400@furry-tales.ca
SUMMARY:PetValu Southgate (2515 Bank St) food fundraiser
DESCRIPTION:During the month of October\, PetValu Southgate (2515 Bank St\, Ottawa) is accepting donations of canned food\, cash and gently used items\, for Furry Tales Cat Rescue.  🙏
URL:https://furry-tales.ca/event/petvalu-southgate-2515-bank-st-food-fundraiser/
CATEGORIES:Fundraising and PR
END:VEVENT
BEGIN:VEVENT
DTSTART;TZID=America/Toronto:20230910T110000
DTEND;TZID=America/Toronto:20230910T170000
DTSTAMP:20260423T164239
CREATED:20230801T170627Z
LAST-MODIFIED:20230801T170922Z
UID:7267-1694343600-1694365200@furry-tales.ca
SUMMARY:PetValu Kanata Adoption event
DESCRIPTION:
URL:https://furry-tales.ca/event/petvalu-kanata-adoption-event/
CATEGORIES:Adoption Event
END:VEVENT
BEGIN:VEVENT
DTSTART;TZID=America/Toronto:20230910T110000
DTEND;TZID=America/Toronto:20230910T160000
DTSTAMP:20260423T164239
CREATED:20230827T184348Z
LAST-MODIFIED:20230827T184348Z
UID:7638-1694343600-1694361600@furry-tales.ca
SUMMARY:Microchip Clinic $35
DESCRIPTION:
URL:https://furry-tales.ca/event/microchip-clinic-35/
CATEGORIES:Fundraising and PR
END:VEVENT
BEGIN:VEVENT
DTSTART;TZID=America/Toronto:20230829T080000
DTEND;TZID=America/Toronto:20230906T180000
DTSTAMP:20260423T164239
CREATED:20230827T184104Z
LAST-MODIFIED:20230827T184104Z
UID:7634-1693296000-1694023200@furry-tales.ca
SUMMARY:Furry Tales Fall Auction
DESCRIPTION:
URL:https://furry-tales.ca/event/furry-tales-fall-auction/
CATEGORIES:Fundraising and PR
END:VEVENT
BEGIN:VEVENT
DTSTART;TZID=America/Toronto:20230819T080000
DTEND;TZID=America/Toronto:20230819T140000
DTSTAMP:20260423T164239
CREATED:20230808T004049Z
LAST-MODIFIED:20230808T004049Z
UID:7389-1692432000-1692453600@furry-tales.ca
SUMMARY:FTCR HUGE GARAGE SALE
DESCRIPTION:
URL:https://furry-tales.ca/event/ftcr-huge-garage-sale/
CATEGORIES:Fundraising and PR
END:VEVENT
BEGIN:VEVENT
DTSTART;VALUE=DATE:20230723
DTEND;VALUE=DATE:20230724
DTSTAMP:20260423T164239
CREATED:20230718T111600Z
LAST-MODIFIED:20230718T111600Z
UID:7047-1690070400-1690156799@furry-tales.ca
SUMMARY:FTCR at St Laurent Outdoor markets
DESCRIPTION:
URL:https://furry-tales.ca/event/ftcr-at-st-laurent-outdoor-markets/
CATEGORIES:Fundraising and PR
END:VEVENT
BEGIN:VEVENT
DTSTART;TZID=America/Toronto:20221107T090000
DTEND;TZID=America/Toronto:20221113T180000
DTSTAMP:20260423T164239
CREATED:20221028T191421Z
LAST-MODIFIED:20221028T191421Z
UID:3323-1667811600-1668362400@furry-tales.ca
SUMMARY:PetSmart Adoption Event
DESCRIPTION:Have you been looking for the purrfect cat or kitten to join your home?\nLook no further than PetSmart from Nov 7th to 13th during our special adoption event! \nWe will have spotted kittens\, striped kittens\, fluffy kittens\, cuddly adults\, lap cats\, playful cats\, and all kinds of personalities to choose from! When you adopt a cat through Furry Tales you adopt a lifelong friend. Each one of the cats and kittens has been treated for fleas and ticks\, dewormed\, vaccinated\, microchipped\, and spayed or neutered! This week only when you adopt one of our cats receive a FREE bed and bag of food ! \n 
URL:https://furry-tales.ca/event/petsmart-adoption-event/
LOCATION:PetSmart – Ottawa Meadowlands\, 1585 Merivale Rd\, Nepean\, Ontario\, K2G 3J4\, Canada
END:VEVENT
BEGIN:VEVENT
DTSTART;TZID=America/Toronto:20220729T080000
DTEND;TZID=America/Toronto:20220805T180000
DTSTAMP:20260423T164239
CREATED:20220731T170840Z
LAST-MODIFIED:20220731T170840Z
UID:1513-1659081600-1659722400@furry-tales.ca
SUMMARY:Anniversary Auction
DESCRIPTION:Our 7th Anniversary Auction is underway!! Bid early on those ‘Buy Now’ options and keep checking so you don’t miss out on all the great deals!\n\n\nHelp us raise funds for all the cats and kittens in care with us here at Furry Tales by participating in our Anniversary Auction happening from July 29 to August 5 through Online Auction for Animal Rescue !\n\n\n\nThere will be tons of fantastic items available and all funds raised go directly to supporting the life-saving work that our rescue does!\n\n\nIf you have items that you would like to donate towards our auction\, we would be very appreciative\, please contact us through our Facebook page!\n\n\n\nLink to bid https://www.facebook.com/259198797597370/posts/2009572325893333/\n\n\n\nThanks Everyone and Happy Bidding!!!
URL:https://furry-tales.ca/event/anniversary-auction/
CATEGORIES:Auction
ATTACH;FMTTYPE=image/png:https://furry-tales.ca/wp-content/uploads/furry-tales-auction.png
END:VEVENT
BEGIN:VEVENT
DTSTART;VALUE=DATE:20220727
DTEND;VALUE=DATE:20220813
DTSTAMP:20260423T164239
CREATED:20220730T214437Z
LAST-MODIFIED:20220730T214437Z
UID:1370-1658880000-1660348799@furry-tales.ca
SUMMARY:NAC Broadway Tickets Raffle
DESCRIPTION:It’s Raffle time!! Don’t miss this amazing opportunity 1 of 3 amazing performances which are sure to get your toes tappin’!NAC Broadway Accross Canada – 3 shows – 2 tickets per show.Seats are C102 and C104. 200 tickets available – draw will be held live once sold out.Please send etransfer to furrytalesrescue@gmail.com and put “Broadway” in your message.
URL:https://furry-tales.ca/event/nac-broadway-tickets-raffle/
CATEGORIES:Raffle
ATTACH;FMTTYPE=image/jpeg:https://furry-tales.ca/wp-content/uploads/raffle-Broadway.jpg
END:VEVENT
BEGIN:VEVENT
DTSTART;TZID=America/Toronto:20220711T090000
DTEND;TZID=America/Toronto:20220717T210000
DTSTAMP:20260423T164239
CREATED:20220630T000853Z
LAST-MODIFIED:20220702T164129Z
UID:1104-1657530000-1658091600@furry-tales.ca
SUMMARY:Furry Tales PetSmart Adoption Event
DESCRIPTION:Have you been looking for the purrfect cat or kitten to join your home?\nLook no further than PetSmart from July 11th to 17th during our special adoption event! \nWe will have spotted kittens\, striped kittens\, fluffy kittens\, cuddly adults\, lap cats\, playful cats\, and all kinds of personalities to choose from! When you adopt a cat through Furry Tales you adopt a lifelong friend. Each one of the cats and kittens has been treated for fleas and ticks\, dewormed\, vaccinated\, microchipped\, and spayed or neutered! This week only when you adopt one of our cats receive a FREE bed and bag of food ! \nSpecial kitten adoption price of $250.00 to approved homes. Contact us for more details!
URL:https://furry-tales.ca/event/furry-tales-petsmart-adoption-event/
LOCATION:PetSmart – Ottawa Meadowlands\, 1585 Merivale Rd\, Nepean\, Ontario\, K2G 3J4\, Canada
CATEGORIES:Adoption Event
END:VEVENT
END:VCALENDAR